BEGIN:VCALENDAR
VERSION:2.0
PRODID:-//Interfaith Community Clinic - ECPv6.15.20//NONSGML v1.0//EN
CALSCALE:GREGORIAN
METHOD:PUBLISH
X-WR-CALNAME:Interfaith Community Clinic
X-ORIGINAL-URL:https://interfaithcommunityclinic.org
X-WR-CALDESC:Events for Interfaith Community Clinic
REFRESH-INTERVAL;VALUE=DURATION:PT1H
X-Robots-Tag:noindex
X-PUBLISHED-TTL:PT1H
BEGIN:VTIMEZONE
TZID:UTC
BEGIN:STANDARD
TZOFFSETFROM:+0000
TZOFFSETTO:+0000
TZNAME:UTC
DTSTART:20250101T000000
END:STANDARD
END:VTIMEZONE
BEGIN:VEVENT
DTSTART;TZID=UTC:20260303T143000
DTEND;TZID=UTC:20260303T153000
DTSTAMP:20260424T090111
CREATED:20260115T211740Z
LAST-MODIFIED:20260115T211740Z
UID:39475-1772548200-1772551800@interfaithcommunityclinic.org
SUMMARY:Your Journey to Better Diabetes Health (English)
DESCRIPTION:All classes are held at Interfaith Community Clinic from 2:30pm-3:30pm on Tuesdays and 5:00pm – 6:00pm on Monday\, Wednesday and Thursdays.  Clinic patients are required to attend two (2) classes during their 12-month eligibility period.  Please sign up at the front desk or call 281-364-7889 to register.  Please note topics are subject to change without prior notice.   \n\nNEW PATIENTS: 1ST CLASS MUST BE GETTING THE MOST FROM YOUR CLINIC VISIT\n\n\nAttendance is limited to 20 patients. Only the patient will be allowed in the waiting room\, no family members\, friends or children
URL:https://interfaithcommunityclinic.org/event/your-journey-to-better-diabetes-health-english/
LOCATION:Interfaith Community Clinic\, 101 Pine Manor Drive\, Oak Ridge North\, TX\, 77385\, United States
CATEGORIES:Health and Wellness classes
ATTACH;FMTTYPE=image/jpeg:https://interfaithcommunityclinic.org/wp-content/uploads/2026/01/diabetes-and-healthy-lifestyle-thumb.jpg
END:VEVENT
END:VCALENDAR